BEGIN:VCALENDAR
VERSION:2.0
PRODID:-//hacksw/handcal//NONSGML v1.0//EN
BEGIN:VEVENT
DTSTAMP:20260426T000000Z
DTSTART:20260426T000000Z
DTEND:20260426T020000Z

SUMMARY:Jeezy / Boosie Badazz / MYA / DJ Envy
DESCRIPTION:
END:VEVENT
END:VCALENDAR